BEGIN:VCALENDAR
VERSION:2.0
PRODID:-//Cheltenham Swimming and Water Polo Club - ECPv5.3.2//NONSGML v1.0//EN
CALSCALE:GREGORIAN
METHOD:PUBLISH
X-WR-CALNAME:Cheltenham Swimming and Water Polo Club
X-ORIGINAL-URL:https://cswpc.co.uk
X-WR-CALDESC:Events for Cheltenham Swimming and Water Polo Club
BEGIN:VTIMEZONE
TZID:UTC
BEGIN:STANDARD
TZOFFSETFROM:+0000
TZOFFSETTO:+0000
TZNAME:UTC
DTSTART:20180101T000000
END:STANDARD
END:VTIMEZONE
BEGIN:VEVENT
DTSTART;TZID=UTC:20180414T153000
DTEND;TZID=UTC:20180414T173000
DTSTAMP:20260418T210505
CREATED:20180213T104333Z
LAST-MODIFIED:20180402T175827Z
UID:383-1523719800-1523727000@cswpc.co.uk
SUMMARY:Swimarathon
DESCRIPTION:This fundraising event is organised by Round Table and it’s taking place on Saturday 14th April at the Cheltenham College. Swimmers are in teams and each team tries to swim as many lengths as possible in 45 minutes. \n80% of the sponsorship raised will go to CSWPC\, and we would like each swimmer to raise a minimum of £25.\nOur teams are pencilled in to start at 3.50pm\, although confirmation of this time will only be received at the end of March when Round Table finalise the full schedule.\nPlease contact Richard Marsden if you wish to take part. Also if you wish to swim with any other swimmers in particular let him know so the teams can be planned accordingly. \nSponsorship forms will be sent out after we have confirmation of our time slot.
URL:https://cswpc.co.uk/event/swimarathon/
LOCATION:Cheltenham College\, Thirlestaine road\, Cheltenham\, GL53 7AB\, United Kingdom
CATEGORIES:Swimming
END:VEVENT
END:VCALENDAR