BEGIN:VCALENDAR
VERSION:2.0
PRODID:-//Cheltenham Swimming and Water Polo Club - ECPv5.3.2//NONSGML v1.0//EN
CALSCALE:GREGORIAN
METHOD:PUBLISH
X-WR-CALNAME:Cheltenham Swimming and Water Polo Club
X-ORIGINAL-URL:https://cswpc.co.uk
X-WR-CALDESC:Events for Cheltenham Swimming and Water Polo Club
BEGIN:VTIMEZONE
TZID:UTC
BEGIN:STANDARD
TZOFFSETFROM:+0000
TZOFFSETTO:+0000
TZNAME:UTC
DTSTART:20190101T000000
END:STANDARD
END:VTIMEZONE
BEGIN:VEVENT
DTSTART;VALUE=DATE:20190504
DTEND;VALUE=DATE:20190506
DTSTAMP:20260419T131105
CREATED:20181105T191901Z
LAST-MODIFIED:20181105T191901Z
UID:1526-1556928000-1557100799@cswpc.co.uk
SUMMARY:South West Regional Champs
DESCRIPTION:Plymouth Life Centre \nMay 4 & 5
URL:https://cswpc.co.uk/event/south-west-regional-champs/
CATEGORIES:Swimming
END:VEVENT
END:VCALENDAR