BEGIN:VCALENDAR
VERSION:2.0
PRODID:-//Cheltenham Swimming and Water Polo Club - ECPv5.3.2//NONSGML v1.0//EN
CALSCALE:GREGORIAN
METHOD:PUBLISH
X-WR-CALNAME:Cheltenham Swimming and Water Polo Club
X-ORIGINAL-URL:https://cswpc.co.uk
X-WR-CALDESC:Events for Cheltenham Swimming and Water Polo Club
BEGIN:VTIMEZONE
TZID:UTC
BEGIN:STANDARD
TZOFFSETFROM:+0000
TZOFFSETTO:+0000
TZNAME:UTC
DTSTART:20190101T000000
END:STANDARD
END:VTIMEZONE
BEGIN:VEVENT
DTSTART;VALUE=DATE:20190622
DTEND;VALUE=DATE:20190623
DTSTAMP:20260419T131648
CREATED:20190526T103120Z
LAST-MODIFIED:20190526T103552Z
UID:1985-1561161600-1561247999@cswpc.co.uk
SUMMARY:South West Region Figure and Combo Competition
DESCRIPTION:
URL:https://cswpc.co.uk/event/south-west-region-figure-and-combo-competition/
LOCATION:Leisure@ Cheltenham
END:VEVENT
END:VCALENDAR