BEGIN:VCALENDAR
VERSION:2.0
PRODID:-//Cheltenham Swimming and Water Polo Club - ECPv5.3.2//NONSGML v1.0//EN
CALSCALE:GREGORIAN
METHOD:PUBLISH
X-WR-CALNAME:Cheltenham Swimming and Water Polo Club
X-ORIGINAL-URL:https://cswpc.co.uk
X-WR-CALDESC:Events for Cheltenham Swimming and Water Polo Club
BEGIN:VTIMEZONE
TZID:UTC
BEGIN:STANDARD
TZOFFSETFROM:+0000
TZOFFSETTO:+0000
TZNAME:UTC
DTSTART:20190101T000000
END:STANDARD
END:VTIMEZONE
BEGIN:VEVENT
DTSTART;VALUE=DATE:20190523
DTEND;VALUE=DATE:20190524
DTSTAMP:20260423T011550
CREATED:20190316T171849Z
LAST-MODIFIED:20190505T172556Z
UID:1795-1558569600-1558655999@cswpc.co.uk
SUMMARY:Primary Schools Gala
DESCRIPTION:
URL:https://cswpc.co.uk/event/primary-schools-gala-tbc-2/
CATEGORIES:Swimming
END:VEVENT
END:VCALENDAR