BEGIN:VCALENDAR
VERSION:2.0
PRODID:-//Cheltenham Swimming and Water Polo Club - ECPv5.3.2//NONSGML v1.0//EN
CALSCALE:GREGORIAN
METHOD:PUBLISH
X-WR-CALNAME:Cheltenham Swimming and Water Polo Club
X-ORIGINAL-URL:https://cswpc.co.uk
X-WR-CALDESC:Events for Cheltenham Swimming and Water Polo Club
BEGIN:VTIMEZONE
TZID:UTC
BEGIN:STANDARD
TZOFFSETFROM:+0000
TZOFFSETTO:+0000
TZNAME:UTC
DTSTART:20190101T000000
END:STANDARD
END:VTIMEZONE
BEGIN:VEVENT
DTSTART;TZID=UTC:20190413T080000
DTEND;TZID=UTC:20190413T170000
DTSTAMP:20260423T165637
CREATED:20181217T171642Z
LAST-MODIFIED:20181217T171642Z
UID:1639-1555142400-1555174800@cswpc.co.uk
SUMMARY:PGL League Round 3
DESCRIPTION:
URL:https://cswpc.co.uk/event/pgl-league-round-3-2/
CATEGORIES:Swimming
END:VEVENT
END:VCALENDAR