BEGIN:VCALENDAR
VERSION:2.0
PRODID:-//Cheltenham Swimming and Water Polo Club - ECPv5.3.2//NONSGML v1.0//EN
CALSCALE:GREGORIAN
METHOD:PUBLISH
X-WR-CALNAME:Cheltenham Swimming and Water Polo Club
X-ORIGINAL-URL:https://cswpc.co.uk
X-WR-CALDESC:Events for Cheltenham Swimming and Water Polo Club
BEGIN:VTIMEZONE
TZID:UTC
BEGIN:STANDARD
TZOFFSETFROM:+0000
TZOFFSETTO:+0000
TZNAME:UTC
DTSTART:20190101T000000
END:STANDARD
END:VTIMEZONE
BEGIN:VEVENT
DTSTART;VALUE=DATE:20190223
DTEND;VALUE=DATE:20190225
DTSTAMP:20260423T201937
CREATED:20181105T191510Z
LAST-MODIFIED:20181105T191510Z
UID:1520-1550880000-1551052799@cswpc.co.uk
SUMMARY:Glos County Champs
DESCRIPTION:GL1\, Gloucester \nFeb 23 & 24
URL:https://cswpc.co.uk/event/glos-county-champs-3/
CATEGORIES:Swimming
END:VEVENT
END:VCALENDAR