BEGIN:VCALENDAR
VERSION:2.0
PRODID:-//Cheltenham Swimming and Water Polo Club - ECPv5.3.2//NONSGML v1.0//EN
CALSCALE:GREGORIAN
METHOD:PUBLISH
X-WR-CALNAME:Cheltenham Swimming and Water Polo Club
X-ORIGINAL-URL:https://cswpc.co.uk
X-WR-CALDESC:Events for Cheltenham Swimming and Water Polo Club
BEGIN:VTIMEZONE
TZID:UTC
BEGIN:STANDARD
TZOFFSETFROM:+0000
TZOFFSETTO:+0000
TZNAME:UTC
DTSTART:20180101T000000
END:STANDARD
END:VTIMEZONE
BEGIN:VEVENT
DTSTART;VALUE=DATE:20181124
DTEND;VALUE=DATE:20181126
DTSTAMP:20260417T081812
CREATED:20180213T141540Z
LAST-MODIFIED:20180329T005217Z
UID:461-1543017600-1543190399@cswpc.co.uk
SUMMARY:CSWPC Club Championships 2018
DESCRIPTION:Level 4 Open Meet
URL:https://cswpc.co.uk/event/cswpc-club-championships-2018/
LOCATION:Leisure@ Cheltenham
CATEGORIES:Swimming
END:VEVENT
END:VCALENDAR