BEGIN:VCALENDAR
VERSION:2.0
PRODID:-//Cheltenham Swimming and Water Polo Club - ECPv5.3.2//NONSGML v1.0//EN
CALSCALE:GREGORIAN
METHOD:PUBLISH
X-WR-CALNAME:Cheltenham Swimming and Water Polo Club
X-ORIGINAL-URL:https://cswpc.co.uk
X-WR-CALDESC:Events for Cheltenham Swimming and Water Polo Club
BEGIN:VTIMEZONE
TZID:UTC
BEGIN:STANDARD
TZOFFSETFROM:+0000
TZOFFSETTO:+0000
TZNAME:UTC
DTSTART:20190101T000000
END:STANDARD
END:VTIMEZONE
BEGIN:VEVENT
DTSTART;VALUE=DATE:20190330
DTEND;VALUE=DATE:20190331
DTSTAMP:20260421T101711
CREATED:20181217T171314Z
LAST-MODIFIED:20181217T171314Z
UID:1631-1553904000-1553990399@cswpc.co.uk
SUMMARY:Cotswold League Round 4
DESCRIPTION:
URL:https://cswpc.co.uk/event/cotswold-league-round-4/
CATEGORIES:Swimming
END:VEVENT
END:VCALENDAR