BEGIN:VCALENDAR
VERSION:2.0
PRODID:-//Cheltenham Swimming and Water Polo Club - ECPv5.3.2//NONSGML v1.0//EN
CALSCALE:GREGORIAN
METHOD:PUBLISH
X-WR-CALNAME:Cheltenham Swimming and Water Polo Club
X-ORIGINAL-URL:https://cswpc.co.uk
X-WR-CALDESC:Events for Cheltenham Swimming and Water Polo Club
BEGIN:VTIMEZONE
TZID:UTC
BEGIN:STANDARD
TZOFFSETFROM:+0000
TZOFFSETTO:+0000
TZNAME:UTC
DTSTART:20190101T000000
END:STANDARD
END:VTIMEZONE
BEGIN:VEVENT
DTSTART;VALUE=DATE:20190507
DTEND;VALUE=DATE:20190508
DTSTAMP:20260419T131701
CREATED:20190316T171618Z
LAST-MODIFIED:20190316T171734Z
UID:1793-1557187200-1557273599@cswpc.co.uk
SUMMARY:Cheltenham and District Secondary Schools Gala
DESCRIPTION:
URL:https://cswpc.co.uk/event/cheltenham-and-district-secondary-schools-gala/
CATEGORIES:Swimming
END:VEVENT
END:VCALENDAR