BEGIN:VCALENDAR
VERSION:2.0
PRODID:-//Cheltenham Swimming and Water Polo Club - ECPv5.3.2//NONSGML v1.0//EN
CALSCALE:GREGORIAN
METHOD:PUBLISH
X-WR-CALNAME:Cheltenham Swimming and Water Polo Club
X-ORIGINAL-URL:https://cswpc.co.uk
X-WR-CALDESC:Events for Cheltenham Swimming and Water Polo Club
BEGIN:VTIMEZONE
TZID:UTC
BEGIN:STANDARD
TZOFFSETFROM:+0000
TZOFFSETTO:+0000
TZNAME:UTC
DTSTART:20190101T000000
END:STANDARD
END:VTIMEZONE
BEGIN:VEVENT
DTSTART;TZID=UTC:20190105T080000
DTEND;TZID=UTC:20190106T170000
DTSTAMP:20260419T131750
CREATED:20181105T190647Z
LAST-MODIFIED:20181105T190647Z
UID:1512-1546675200-1546794000@cswpc.co.uk
SUMMARY:Bristol Henleaze New Year Meet (target meet)
DESCRIPTION:Hengrove Park\, Bristol \nJan 5 & 6
URL:https://cswpc.co.uk/event/bristol-henleaze-new-year-meet-target-meet/
CATEGORIES:Swimming
END:VEVENT
END:VCALENDAR