BEGIN:VCALENDAR
VERSION:2.0
PRODID:-//Cheltenham Swimming and Water Polo Club - ECPv5.3.2//NONSGML v1.0//EN
CALSCALE:GREGORIAN
METHOD:PUBLISH
X-WR-CALNAME:Cheltenham Swimming and Water Polo Club
X-ORIGINAL-URL:https://cswpc.co.uk
X-WR-CALDESC:Events for Cheltenham Swimming and Water Polo Club
BEGIN:VTIMEZONE
TZID:UTC
BEGIN:STANDARD
TZOFFSETFROM:+0000
TZOFFSETTO:+0000
TZNAME:UTC
DTSTART:20180101T000000
END:STANDARD
END:VTIMEZONE
BEGIN:VEVENT
DTSTART;TZID=UTC:20180407T130000
DTEND;TZID=UTC:20180407T170000
DTSTAMP:20260419T131118
CREATED:20180213T095808Z
LAST-MODIFIED:20180213T095808Z
UID:302-1523106000-1523120400@cswpc.co.uk
SUMMARY:3 Team Tournament
DESCRIPTION:Mixed 2005/6 Team v Bolton School & Watford – Sandford Parks Lido – 1-5pm
URL:https://cswpc.co.uk/event/3-team-tournament/
CATEGORIES:Water Polo
END:VEVENT
END:VCALENDAR